BEGIN:VCALENDAR
VERSION:2.0
PRODID:SchoolNow
CALSCALE:GREGORIAN
BEGIN:VEVENT
UID:f52b4020-529e-11f0-bd19-0a58a9feac02
DTSTAMP:20260419T224011Z
SUMMARY:Christmas Day (DISTRICT CLOSED)
URL;VALUE=URI:https://www.sd735.org/calendar/8356112/christmas-day-district
 -closed
DTSTART;VALUE=DATE:20251225
DTEND;VALUE=DATE:20251226
END:VEVENT
END:VCALENDAR
