BEGIN:VCALENDAR
VERSION:2.0
PRODID:SchoolNow
CALSCALE:GREGORIAN
BEGIN:VEVENT
UID:53146ffe-47d2-11f0-8937-0ed9e688e2a1
DTSTAMP:20260419T224011Z
SUMMARY:Last Day of School
URL;VALUE=URI:https://www.sd735.org/calendar/8293832/last-day-of-school
DTSTART;VALUE=DATE:20260603
DTEND;VALUE=DATE:20260604
END:VEVENT
END:VCALENDAR
