BEGIN:VCALENDAR
VERSION:2.0
PRODID:SchoolNow
CALSCALE:GREGORIAN
BEGIN:VEVENT
UID:53146e46-47d2-11f0-8896-0ed9e688e2a1
DTSTAMP:20260419T163511Z
SUMMARY:Presidents' Day Observed (NO SCHOOL & DISTRICT CLOSED)
URL;VALUE=URI:https://www.sd735.org/calendar/8293830/presidents-day-observe
 d-no-school-district-closed
DTSTART;VALUE=DATE:20260216
DTEND;VALUE=DATE:20260217
END:VEVENT
END:VCALENDAR
