BEGIN:VCALENDAR
VERSION:2.0
PRODID:SchoolNow
CALSCALE:GREGORIAN
BEGIN:VEVENT
UID:655ba166-466d-11f0-b540-0edbe70b2919
DTSTAMP:20260419T163511Z
SUMMARY:Board of Education Regular Meeting
LOCATION:McCracken MPR
URL;VALUE=URI:https://www.sd735.org/calendar/8283711/board-of-education-reg
 ular-meeting
DTSTART:20260415T000000Z
DTEND:20260415T023000Z
END:VEVENT
END:VCALENDAR
