BEGIN:VCALENDAR
VERSION:2.0
PRODID:SchoolNow
CALSCALE:GREGORIAN
BEGIN:VEVENT
UID:655b9ef0-466d-11f0-89ca-0edbe70b2919
DTSTAMP:20260419T163511Z
SUMMARY:Board of Education Regular Meeting
LOCATION:McCracken MPR
URL;VALUE=URI:https://www.sd735.org/calendar/8283709/board-of-education-reg
 ular-meeting
DTSTART:20260211T010000Z
DTEND:20260211T033000Z
END:VEVENT
END:VCALENDAR
